BEGIN:VCALENDAR
VERSION:2.0
PRODID:-//De La Salle College - ECPv4.6//NONSGML v1.0//EN
CALSCALE:GREGORIAN
METHOD:PUBLISH
X-WR-CALNAME:De La Salle College
X-ORIGINAL-URL:http://www.delasalle.ie
X-WR-CALDESC:Events for De La Salle College
BEGIN:VEVENT
DTSTART;VALUE=DATE:20171026
DTEND;VALUE=DATE:20171029
DTSTAMP:20171029T002949
CREATED:20171024T111458Z
LAST-MODIFIED:20171024T111458Z
UID:3808-1508976000-1509321599@www.delasalle.ie
SUMMARY:School Tour to Germany
DESCRIPTION:
URL:http://www.delasalle.ie/calendar/school-tour-to-germany/
END:VEVENT
BEGIN:VEVENT
DTSTART;VALUE=DATE:20171030
DTEND;VALUE=DATE:20171103
DTSTAMP:20171029T002949
CREATED:20171024T195212Z
LAST-MODIFIED:20171024T195212Z
UID:3811-1509321600-1509753599@www.delasalle.ie
SUMMARY:Mid Term Break
DESCRIPTION:
URL:http://www.delasalle.ie/calendar/mid-term-break/
END:VEVENT
END:VCALENDAR